View In:
ArcGIS JavaScript
ArcGIS Online Map Viewer
ArcGIS Earth
ArcGIS Pro
Service Description:
Map Name: Map
Legend
All Layers and Tables
Dynamic Legend
Dynamic All Layers
Layers:
Description:
Service Item Id: 001966249e6341178bf73626d44945ef
Copyright Text:
Spatial Reference:
0
(0)
LatestVCSWkid(0)
Single Fused Map Cache: true
Tile Info:
- Height: 256
- Width: 256
- DPI: 96
-
Levels of Detail: 24
-
Level ID: 0
[ Start Tile, End Tile ]
- Resolution: 165784.84537244408
- Scale: 6.265883919588437E8
-
Level ID: 1
[ Start Tile, End Tile ]
- Resolution: 82892.42268622204
- Scale: 3.1329419597942185E8
-
Level ID: 2
[ Start Tile, End Tile ]
- Resolution: 41446.21134311102
- Scale: 1.5664709798971093E8
-
Level ID: 3
[ Start Tile, End Tile ]
- Resolution: 20723.10567155551
- Scale: 7.832354899485546E7
-
Level ID: 4
[ Start Tile, End Tile ]
- Resolution: 10361.552835777755
- Scale: 3.916177449742773E7
-
Level ID: 5
[ Start Tile, End Tile ]
- Resolution: 5180.776417888877
- Scale: 1.9580887248713866E7
-
Level ID: 6
[ Start Tile, End Tile ]
- Resolution: 2590.3882089444387
- Scale: 9790443.624356933
-
Level ID: 7
[ Start Tile, End Tile ]
- Resolution: 1295.1941044722194
- Scale: 4895221.8121784665
-
Level ID: 8
[ Start Tile, End Tile ]
- Resolution: 647.5970522361097
- Scale: 2447610.9060892332
-
Level ID: 9
[ Start Tile, End Tile ]
- Resolution: 323.79852611805484
- Scale: 1223805.4530446166
-
Level ID: 10
[ Start Tile, End Tile ]
- Resolution: 161.89926305902742
- Scale: 611902.7265223083
-
Level ID: 11
[ Start Tile, End Tile ]
- Resolution: 80.94963152951371
- Scale: 305951.36326115415
-
Level ID: 12
[ Start Tile, End Tile ]
- Resolution: 40.474815764756855
- Scale: 152975.68163057708
-
Level ID: 13
[ Start Tile, End Tile ]
- Resolution: 20.237407882378427
- Scale: 76487.84081528854
-
Level ID: 14
[ Start Tile, End Tile ]
- Resolution: 10.118703941189214
- Scale: 38243.92040764427
-
Level ID: 15
[ Start Tile, End Tile ]
- Resolution: 5.059351970594607
- Scale: 19121.960203822135
-
Level ID: 16
[ Start Tile, End Tile ]
- Resolution: 2.5296759852973034
- Scale: 9560.980101911067
-
Level ID: 17
[ Start Tile, End Tile ]
- Resolution: 1.2648379926486517
- Scale: 4780.490050955534
-
Level ID: 18
[ Start Tile, End Tile ]
- Resolution: 0.6324189963243259
- Scale: 2390.245025477767
-
Level ID: 19
[ Start Tile, End Tile ]
- Resolution: 0.3162094981621629
- Scale: 1195.1225127388834
-
Level ID: 20
[ Start Tile, End Tile ]
- Resolution: 0.15810474908108146
- Scale: 597.5612563694417
-
Level ID: 21
[ Start Tile, End Tile ]
- Resolution: 0.07905237454054073
- Scale: 298.78062818472085
-
Level ID: 22
[ Start Tile, End Tile ]
- Resolution: 0.039526187270270366
- Scale: 149.39031409236043
-
Level ID: 23
[ Start Tile, End Tile ]
- Resolution: 0.019763093635135183
- Scale: 74.69515704618021
- Format: Mixed
- Compression Quality: 75.0
- Origin: X: -1.872046020767279E7
Y: 2.444130795828044E7
- Spatial Reference: 0
(0)
LatestVCSWkid(0)
Storage Info:
- Storage Format: esriMapCacheStorageModeCompactV2
- Packet Size: 128
Initial Extent:
XMin: 1079176.7829351581
YMin: 282987.0655695939
XMax: 4168613.5712013775
YMax: 2307617.9705013395
Spatial Reference: 0
(0)
LatestVCSWkid(0)
Full Extent:
XMin: 899999.9999999995
YMin: 300000.0000000037
XMax: 4200000.000000002
YMax: 2400000.0000000056
Spatial Reference: 0
(0)
LatestVCSWkid(0)
Units: esriMeters
Supported Image Format Types: PNG32,PNG24,PNG,JPG,DIB,TIFF,EMF,PS,PDF,GIF,SVG,SVGZ,BMP
Document Info:
Title: Map
Author:
Comments:
Subject:
Category:
Keywords: ICASE,1984-2022
AntialiasingMode: Fast
TextAntialiasingMode: Force
Supports Dynamic Layers: true
MaxRecordCount: 2000
MaxSelectionCount: 2000
MaxImageHeight: 4096
MaxImageWidth: 4096
Supported Query Formats: JSON, geoJSON, PBF
Supports Query Data Elements: true
Min Scale: 1.9580887248713866E7
Max Scale: 9560.980101911067
Min LOD: 5
Max LOD: 16
Supports Datum Transformation: true
Child Resources:
Info
Dynamic Layer
Supported Operations:
Export Map
Identify
QueryLegends
QueryDomains
Find
Return Updates