{
 "currentVersion": 11.4,
 "cimVersion": "3.4.0",
 "serviceDescription": "",
 "mapName": "Map",
 "description": "",
 "copyrightText": "",
 "supportsDynamicLayers": true,
 "layers": [
  {
   "id": 0,
   "name": "ICASE_1988_2022.vrt",
   "parentLayerId": -1,
   "defaultVisibility": true,
   "subLayerIds": null,
   "minScale": 0,
   "maxScale": 0,
   "type": "Raster Layer",
   "supportsDynamicLegends": true
  }
 ],
 "tables": [],
 "spatialReference": {
  "wkt2": "PROJCRS[\"unnamed\",BASEGEOGCRS[\"GCS_GRS_1980_IUGG_1980\",DATUM[\"D_unknown\",ELLIPSOID[\"GRS80\",6378137.0,298.257222101,LENGTHUNIT[\"Meter\",1.0]]],PRIMEM[\"Greenwich\",0.0,ANGLEUNIT[\"Degree\",0.0174532925199433]],CS[ellipsoidal,2],ANGLEUNIT[\"Degree\",0.0174532925199433]],CONVERSION[\"Albers\",METHOD[\"Albers\"],PARAMETER[\"False_Easting\",2500000.0,LENGTHUNIT[\"Meter\",1.0]],PARAMETER[\"False_Northing\",0.0,LENGTHUNIT[\"Meter\",1.0]],PARAMETER[\"Central_Meridian\",-102.0,ANGLEUNIT[\"Degree\",0.0174532925199433]],PARAMETER[\"Standard_Parallel_1\",17.5,ANGLEUNIT[\"Degree\",0.0174532925199433]],PARAMETER[\"Standard_Parallel_2\",29.5,ANGLEUNIT[\"Degree\",0.0174532925199433]],PARAMETER[\"Latitude_Of_Origin\",12.0,ANGLEUNIT[\"Degree\",0.0174532925199433]]],CS[Cartesian,2],AXIS[\"Easting (X)\",east,ORDER[1]],AXIS[\"Northing (Y)\",north,ORDER[2]],LENGTHUNIT[\"Meter\",1.0]]",
  "wkt": "PROJCS[\"unnamed\",GEOGCS[\"GCS_GRS_1980_IUGG_1980\",DATUM[\"D_unknown\",SPHEROID[\"GRS80\",6378137.0,298.257222101]],PRIMEM[\"Greenwich\",0.0],UNIT[\"Degree\",0.0174532925199433]],PROJECTION[\"Albers\"],PARAMETER[\"False_Easting\",2500000.0],PARAMETER[\"False_Northing\",0.0],PARAMETER[\"Central_Meridian\",-102.0],PARAMETER[\"Standard_Parallel_1\",17.5],PARAMETER[\"Standard_Parallel_2\",29.5],PARAMETER[\"Latitude_Of_Origin\",12.0],UNIT[\"Meter\",1.0]]",
  "xyTolerance": 0.001,
  "zTolerance": 0.001,
  "mTolerance": 0.001,
  "falseX": -18720600,
  "falseY": -6444400,
  "xyUnits": 10000,
  "falseZ": -100000,
  "zUnits": 10000,
  "falseM": -100000,
  "mUnits": 10000
 },
 "singleFusedMapCache": true,
 "tileInfo": {
  "rows": 256,
  "cols": 256,
  "dpi": 96,
  "format": "Mixed",
  "compressionQuality": 75,
  "origin": {
   "x": -1.872046020767279E7,
   "y": 2.444130795828044E7
  },
  "spatialReference": {
   "wkt2": "PROJCRS[\"unnamed\",BASEGEOGCRS[\"GCS_GRS_1980_IUGG_1980\",DATUM[\"D_unknown\",ELLIPSOID[\"GRS80\",6378137.0,298.257222101,LENGTHUNIT[\"Meter\",1.0]]],PRIMEM[\"Greenwich\",0.0,ANGLEUNIT[\"Degree\",0.0174532925199433]],CS[ellipsoidal,2],ANGLEUNIT[\"Degree\",0.0174532925199433]],CONVERSION[\"Albers\",METHOD[\"Albers\"],PARAMETER[\"False_Easting\",2500000.0,LENGTHUNIT[\"Meter\",1.0]],PARAMETER[\"False_Northing\",0.0,LENGTHUNIT[\"Meter\",1.0]],PARAMETER[\"Central_Meridian\",-102.0,ANGLEUNIT[\"Degree\",0.0174532925199433]],PARAMETER[\"Standard_Parallel_1\",17.5,ANGLEUNIT[\"Degree\",0.0174532925199433]],PARAMETER[\"Standard_Parallel_2\",29.5,ANGLEUNIT[\"Degree\",0.0174532925199433]],PARAMETER[\"Latitude_Of_Origin\",12.0,ANGLEUNIT[\"Degree\",0.0174532925199433]]],CS[Cartesian,2],AXIS[\"Easting (X)\",east,ORDER[1]],AXIS[\"Northing (Y)\",north,ORDER[2]],LENGTHUNIT[\"Meter\",1.0]]",
   "wkt": "PROJCS[\"unnamed\",GEOGCS[\"GCS_GRS_1980_IUGG_1980\",DATUM[\"D_unknown\",SPHEROID[\"GRS80\",6378137.0,298.257222101]],PRIMEM[\"Greenwich\",0.0],UNIT[\"Degree\",0.0174532925199433]],PROJECTION[\"Albers\"],PARAMETER[\"False_Easting\",2500000.0],PARAMETER[\"False_Northing\",0.0],PARAMETER[\"Central_Meridian\",-102.0],PARAMETER[\"Standard_Parallel_1\",17.5],PARAMETER[\"Standard_Parallel_2\",29.5],PARAMETER[\"Latitude_Of_Origin\",12.0],UNIT[\"Meter\",1.0]]",
   "xyTolerance": 0.001,
   "zTolerance": 0.001,
   "mTolerance": 0.001,
   "falseX": -18720600,
   "falseY": -6444400,
   "xyUnits": 10000,
   "falseZ": -100000,
   "zUnits": 10000,
   "falseM": -100000,
   "mUnits": 10000
  },
  "lods": [
   {
    "level": 0,
    "resolution": 165784.84537244408,
    "scale": 6.265883919588437E8
   },
   {
    "level": 1,
    "resolution": 82892.42268622204,
    "scale": 3.1329419597942185E8
   },
   {
    "level": 2,
    "resolution": 41446.21134311102,
    "scale": 1.5664709798971093E8
   },
   {
    "level": 3,
    "resolution": 20723.10567155551,
    "scale": 7.832354899485546E7
   },
   {
    "level": 4,
    "resolution": 10361.552835777755,
    "scale": 3.916177449742773E7
   },
   {
    "level": 5,
    "resolution": 5180.776417888877,
    "scale": 1.9580887248713866E7
   },
   {
    "level": 6,
    "resolution": 2590.3882089444387,
    "scale": 9790443.624356933
   },
   {
    "level": 7,
    "resolution": 1295.1941044722194,
    "scale": 4895221.8121784665
   },
   {
    "level": 8,
    "resolution": 647.5970522361097,
    "scale": 2447610.9060892332
   },
   {
    "level": 9,
    "resolution": 323.79852611805484,
    "scale": 1223805.4530446166
   },
   {
    "level": 10,
    "resolution": 161.89926305902742,
    "scale": 611902.7265223083
   },
   {
    "level": 11,
    "resolution": 80.94963152951371,
    "scale": 305951.36326115415
   },
   {
    "level": 12,
    "resolution": 40.474815764756855,
    "scale": 152975.68163057708
   },
   {
    "level": 13,
    "resolution": 20.237407882378427,
    "scale": 76487.84081528854
   },
   {
    "level": 14,
    "resolution": 10.118703941189214,
    "scale": 38243.92040764427
   },
   {
    "level": 15,
    "resolution": 5.059351970594607,
    "scale": 19121.960203822135
   },
   {
    "level": 16,
    "resolution": 2.5296759852973034,
    "scale": 9560.980101911067
   },
   {
    "level": 17,
    "resolution": 1.2648379926486517,
    "scale": 4780.490050955534
   },
   {
    "level": 18,
    "resolution": 0.6324189963243259,
    "scale": 2390.245025477767
   },
   {
    "level": 19,
    "resolution": 0.3162094981621629,
    "scale": 1195.1225127388834
   },
   {
    "level": 20,
    "resolution": 0.15810474908108146,
    "scale": 597.5612563694417
   },
   {
    "level": 21,
    "resolution": 0.07905237454054073,
    "scale": 298.78062818472085
   },
   {
    "level": 22,
    "resolution": 0.039526187270270366,
    "scale": 149.39031409236043
   },
   {
    "level": 23,
    "resolution": 0.019763093635135183,
    "scale": 74.69515704618021
   }
  ]
 },
 "storageInfo": {
  "storageFormat": "esriMapCacheStorageModeCompactV2",
  "packetSize": 128
 },
 "initialExtent": {
  "xmin": 1079176.7829351581,
  "ymin": 282987.0655695939,
  "xmax": 4168613.5712013775,
  "ymax": 2307617.9705013395,
  "spatialReference": {
   "wkt2": "PROJCRS[\"unnamed\",BASEGEOGCRS[\"GCS_GRS_1980_IUGG_1980\",DATUM[\"D_unknown\",ELLIPSOID[\"GRS80\",6378137.0,298.257222101,LENGTHUNIT[\"Meter\",1.0]]],PRIMEM[\"Greenwich\",0.0,ANGLEUNIT[\"Degree\",0.0174532925199433]],CS[ellipsoidal,2],ANGLEUNIT[\"Degree\",0.0174532925199433]],CONVERSION[\"Albers\",METHOD[\"Albers\"],PARAMETER[\"False_Easting\",2500000.0,LENGTHUNIT[\"Meter\",1.0]],PARAMETER[\"False_Northing\",0.0,LENGTHUNIT[\"Meter\",1.0]],PARAMETER[\"Central_Meridian\",-102.0,ANGLEUNIT[\"Degree\",0.0174532925199433]],PARAMETER[\"Standard_Parallel_1\",17.5,ANGLEUNIT[\"Degree\",0.0174532925199433]],PARAMETER[\"Standard_Parallel_2\",29.5,ANGLEUNIT[\"Degree\",0.0174532925199433]],PARAMETER[\"Latitude_Of_Origin\",12.0,ANGLEUNIT[\"Degree\",0.0174532925199433]]],CS[Cartesian,2],AXIS[\"Easting (X)\",east,ORDER[1]],AXIS[\"Northing (Y)\",north,ORDER[2]],LENGTHUNIT[\"Meter\",1.0]]",
   "wkt": "PROJCS[\"unnamed\",GEOGCS[\"GCS_GRS_1980_IUGG_1980\",DATUM[\"D_unknown\",SPHEROID[\"GRS80\",6378137.0,298.257222101]],PRIMEM[\"Greenwich\",0.0],UNIT[\"Degree\",0.0174532925199433]],PROJECTION[\"Albers\"],PARAMETER[\"False_Easting\",2500000.0],PARAMETER[\"False_Northing\",0.0],PARAMETER[\"Central_Meridian\",-102.0],PARAMETER[\"Standard_Parallel_1\",17.5],PARAMETER[\"Standard_Parallel_2\",29.5],PARAMETER[\"Latitude_Of_Origin\",12.0],UNIT[\"Meter\",1.0]]",
   "xyTolerance": 0.001,
   "zTolerance": 0.001,
   "mTolerance": 0.001,
   "falseX": -18720600,
   "falseY": -6444400,
   "xyUnits": 10000,
   "falseZ": -100000,
   "zUnits": 10000,
   "falseM": -100000,
   "mUnits": 10000
  }
 },
 "fullExtent": {
  "xmin": 899999.9999999995,
  "ymin": 300000.0000000037,
  "xmax": 4200000.000000002,
  "ymax": 2400000.0000000056,
  "spatialReference": {
   "wkt2": "PROJCRS[\"unnamed\",BASEGEOGCRS[\"GCS_GRS_1980_IUGG_1980\",DATUM[\"D_unknown\",ELLIPSOID[\"GRS80\",6378137.0,298.257222101,LENGTHUNIT[\"Meter\",1.0]]],PRIMEM[\"Greenwich\",0.0,ANGLEUNIT[\"Degree\",0.0174532925199433]],CS[ellipsoidal,2],ANGLEUNIT[\"Degree\",0.0174532925199433]],CONVERSION[\"Albers\",METHOD[\"Albers\"],PARAMETER[\"False_Easting\",2500000.0,LENGTHUNIT[\"Meter\",1.0]],PARAMETER[\"False_Northing\",0.0,LENGTHUNIT[\"Meter\",1.0]],PARAMETER[\"Central_Meridian\",-102.0,ANGLEUNIT[\"Degree\",0.0174532925199433]],PARAMETER[\"Standard_Parallel_1\",17.5,ANGLEUNIT[\"Degree\",0.0174532925199433]],PARAMETER[\"Standard_Parallel_2\",29.5,ANGLEUNIT[\"Degree\",0.0174532925199433]],PARAMETER[\"Latitude_Of_Origin\",12.0,ANGLEUNIT[\"Degree\",0.0174532925199433]]],CS[Cartesian,2],AXIS[\"Easting (X)\",east,ORDER[1]],AXIS[\"Northing (Y)\",north,ORDER[2]],LENGTHUNIT[\"Meter\",1.0]]",
   "wkt": "PROJCS[\"unnamed\",GEOGCS[\"GCS_GRS_1980_IUGG_1980\",DATUM[\"D_unknown\",SPHEROID[\"GRS80\",6378137.0,298.257222101]],PRIMEM[\"Greenwich\",0.0],UNIT[\"Degree\",0.0174532925199433]],PROJECTION[\"Albers\"],PARAMETER[\"False_Easting\",2500000.0],PARAMETER[\"False_Northing\",0.0],PARAMETER[\"Central_Meridian\",-102.0],PARAMETER[\"Standard_Parallel_1\",17.5],PARAMETER[\"Standard_Parallel_2\",29.5],PARAMETER[\"Latitude_Of_Origin\",12.0],UNIT[\"Meter\",1.0]]",
   "xyTolerance": 0.001,
   "zTolerance": 0.001,
   "mTolerance": 0.001,
   "falseX": -18720600,
   "falseY": -6444400,
   "xyUnits": 10000,
   "falseZ": -100000,
   "zUnits": 10000,
   "falseM": -100000,
   "mUnits": 10000
  }
 },
 "datesInUnknownTimezone": false,
 "minScale": 1.9580887248713866E7,
 "maxScale": 9560.980101911067,
 "minLOD": 5,
 "maxLOD": 16,
 "units": "esriMeters",
 "supportedImageFormatTypes": "PNG32,PNG24,PNG,JPG,DIB,TIFF,EMF,PS,PDF,GIF,SVG,SVGZ,BMP",
 "documentInfo": {
  "Title": "Map",
  "Author": "",
  "Comments": "",
  "Subject": "",
  "Category": "",
  "Version": "3.4.0",
  "AntialiasingMode": "Fast",
  "TextAntialiasingMode": "Force",
  "Keywords": "ICASE,1984-2022"
 },
 "supportsQueryDomains": true,
 "capabilities": "Map,Query,Data",
 "supportedQueryFormats": "JSON, geoJSON, PBF",
 "exportTilesAllowed": false,
 "referenceScale": 0.0,
 "supportsDatumTransformation": true,
 "floorAwareMapProperties": {
  "defaultFloorFilterSettings": {
   "isEnabled": false
  }
 },
 "archivingInfo": {
  "supportsHistoricMoment": false
 },
 "supportsClipping": true,
 "supportsSpatialFilter": true,
 "supportsTimeRelation": true,
 "supportsQueryDataElements": true,
 "mapUnits": {
  "uwkid": 9001
 },
 "maxSelectionCount": 2000,
 "maxRecordCount": 2000,
 "maxImageHeight": 4096,
 "maxImageWidth": 4096,
 "supportedExtensions": "",
 "serviceItemId": "001966249e6341178bf73626d44945ef"
}
